<?xml version="1.0" encoding="UTF-8" standalone="no"?>
<metadata xml:lang="de">
<Esri>
<CreaDate>20201118</CreaDate>
<CreaTime>16114200</CreaTime>
<ArcGISFormat>1.0</ArcGISFormat>
<SyncOnce>FALSE</SyncOnce>
<DataProperties>
<itemProps>
<itemName Sync="TRUE">dop20_342000_5816000_col</itemName>
<imsContentType Sync="TRUE">002</imsContentType>
<nativeExtBox>
<westBL Sync="TRUE">342000.000000</westBL>
<eastBL Sync="TRUE">344000.000000</eastBL>
<southBL Sync="TRUE">5816000.000000</southBL>
<northBL Sync="TRUE">5818000.000000</northBL>
<exTypeCode Sync="TRUE">1</exTypeCode>
</nativeExtBox>
<itemLocation>
<linkage Sync="TRUE">file://\\PC126\C$\DOP_2020\Luftbilder_2020.gdb</linkage>
<protocol Sync="TRUE">Local Area Network</protocol>
</itemLocation>
</itemProps>
<lineage>
<Process Date="20201118" Time="161142" ToolSource="c:\program files (x86)\arcgis\desktop10.7\ArcToolbox\Toolboxes\Data Management Tools.tbx\CopyRaster">CopyRaster C:\DOP_2020\dop20_342000_5816000_col.tif C:\DOP_2020\Luftbilder_2020.gdb\dop20_342000_5816000_col # # 255 NONE NONE # NONE NONE "Esri Grid" NONE</Process>
<Process Date="20201118" Time="184843" ToolSource="c:\program files (x86)\arcgis\desktop10.7\ArcToolbox\Toolboxes\Data Management Tools.tbx\Mosaic">Mosaic C:\DOP_2020\dop20_342000_5818000_col.tif;C:\DOP_2020\dop20_342000_5822000_col.tif;C:\DOP_2020\dop20_342000_5824000_col.tif;C:\DOP_2020\dop20_344000_5816000_col.tif;C:\DOP_2020\dop20_344000_5818000_col.tif;C:\DOP_2020\dop20_344000_5820000_col.tif;C:\DOP_2020\dop20_344000_5822000_col.tif;C:\DOP_2020\dop20_344000_5824000_col.tif;C:\DOP_2020\dop20_344000_5826000_col.tif;C:\DOP_2020\dop20_344000_5828000_col.tif;C:\DOP_2020\dop20_344000_5830000_col.tif;C:\DOP_2020\dop20_344000_5832000_col.tif;C:\DOP_2020\dop20_346000_5814000_col.tif;C:\DOP_2020\dop20_346000_5816000_col.tif;C:\DOP_2020\dop20_346000_5818000_col.tif;C:\DOP_2020\dop20_346000_5820000_col.tif;C:\DOP_2020\dop20_346000_5822000_col.tif;C:\DOP_2020\dop20_346000_5824000_col.tif;C:\DOP_2020\dop20_346000_5826000_col.tif;C:\DOP_2020\dop20_346000_5828000_col.tif;C:\DOP_2020\dop20_346000_5830000_col.tif;C:\DOP_2020\dop20_346000_5832000_col.tif;C:\DOP_2020\dop20_346000_5834000_col.tif;C:\DOP_2020\dop20_348000_5814000_col.tif;C:\DOP_2020\dop20_348000_5816000_col.tif;C:\DOP_2020\dop20_348000_5818000_col.tif;C:\DOP_2020\dop20_348000_5820000_col.tif;C:\DOP_2020\dop20_348000_5822000_col.tif;C:\DOP_2020\dop20_348000_5824000_col.tif;C:\DOP_2020\dop20_348000_5826000_col.tif;C:\DOP_2020\dop20_348000_5828000_col.tif;C:\DOP_2020\dop20_348000_5830000_col.tif;C:\DOP_2020\dop20_348000_5832000_col.tif;C:\DOP_2020\dop20_348000_5834000_col.tif;C:\DOP_2020\dop20_350000_5814000_col.tif;C:\DOP_2020\dop20_350000_5816000_col.tif;C:\DOP_2020\dop20_350000_5818000_col.tif;C:\DOP_2020\dop20_350000_5820000_col.tif;C:\DOP_2020\dop20_350000_5822000_col.tif;C:\DOP_2020\dop20_350000_5824000_col.tif;C:\DOP_2020\dop20_350000_5826000_col.tif;C:\DOP_2020\dop20_350000_5828000_col.tif;C:\DOP_2020\dop20_350000_5830000_col.tif;C:\DOP_2020\dop20_350000_5832000_col.tif;C:\DOP_2020\dop20_350000_5834000_col.tif;C:\DOP_2020\dop20_352000_5814000_col.tif;C:\DOP_2020\dop20_352000_5816000_col.tif;C:\DOP_2020\dop20_352000_5818000_col.tif;C:\DOP_2020\dop20_352000_5820000_col.tif;C:\DOP_2020\dop20_352000_5822000_col.tif;C:\DOP_2020\dop20_352000_5824000_col.tif;C:\DOP_2020\dop20_352000_5826000_col.tif;C:\DOP_2020\dop20_352000_5828000_col.tif;C:\DOP_2020\dop20_352000_5830000_col.tif;C:\DOP_2020\dop20_352000_5832000_col.tif;C:\DOP_2020\dop20_352000_5834000_col.tif;C:\DOP_2020\dop20_354000_5812000_col.tif;C:\DOP_2020\dop20_354000_5814000_col.tif;C:\DOP_2020\dop20_354000_5816000_col.tif;C:\DOP_2020\dop20_354000_5818000_col.tif;C:\DOP_2020\dop20_354000_5820000_col.tif;C:\DOP_2020\dop20_354000_5822000_col.tif;C:\DOP_2020\dop20_354000_5824000_col.tif;C:\DOP_2020\dop20_354000_5826000_col.tif;C:\DOP_2020\dop20_354000_5828000_col.tif;C:\DOP_2020\dop20_354000_5830000_col.tif;C:\DOP_2020\dop20_354000_5832000_col.tif;C:\DOP_2020\dop20_354000_5834000_col.tif;C:\DOP_2020\dop20_356000_5812000_col.tif;C:\DOP_2020\dop20_356000_5814000_col.tif;C:\DOP_2020\dop20_356000_5816000_col.tif;C:\DOP_2020\dop20_356000_5818000_col.tif;C:\DOP_2020\dop20_356000_5820000_col.tif;C:\DOP_2020\dop20_356000_5822000_col.tif;C:\DOP_2020\dop20_356000_5824000_col.tif;C:\DOP_2020\dop20_356000_5826000_col.tif;C:\DOP_2020\dop20_356000_5828000_col.tif;C:\DOP_2020\dop20_356000_5830000_col.tif;C:\DOP_2020\dop20_356000_5832000_col.tif;C:\DOP_2020\dop20_356000_5834000_col.tif;C:\DOP_2020\dop20_358000_5810000_col.tif;C:\DOP_2020\dop20_358000_5812000_col.tif;C:\DOP_2020\dop20_358000_5814000_col.tif;C:\DOP_2020\dop20_358000_5816000_col.tif;C:\DOP_2020\dop20_358000_5818000_col.tif;C:\DOP_2020\dop20_358000_5820000_col.tif;C:\DOP_2020\dop20_358000_5822000_col.tif;C:\DOP_2020\dop20_358000_5824000_col.tif;C:\DOP_2020\dop20_358000_5826000_col.tif;C:\DOP_2020\dop20_358000_5828000_col.tif;C:\DOP_2020\dop20_358000_5830000_col.tif;C:\DOP_2020\dop20_358000_5832000_col.tif;C:\DOP_2020\dop20_358000_5834000_col.tif;C:\DOP_2020\dop20_360000_5810000_col.tif;C:\DOP_2020\dop20_360000_5812000_col.tif;C:\DOP_2020\dop20_360000_5814000_col.tif;C:\DOP_2020\dop20_360000_5816000_col.tif;C:\DOP_2020\dop20_360000_5818000_col.tif;C:\DOP_2020\dop20_360000_5820000_col.tif;C:\DOP_2020\dop20_360000_5822000_col.tif;C:\DOP_2020\dop20_360000_5824000_col.tif;C:\DOP_2020\dop20_360000_5826000_col.tif;C:\DOP_2020\dop20_360000_5828000_col.tif;C:\DOP_2020\dop20_360000_5830000_col.tif;C:\DOP_2020\dop20_360000_5832000_col.tif;C:\DOP_2020\dop20_360000_5834000_col.tif;C:\DOP_2020\dop20_362000_5812000_col.tif;C:\DOP_2020\dop20_362000_5814000_col.tif;C:\DOP_2020\dop20_362000_5816000_col.tif;C:\DOP_2020\dop20_362000_5818000_col.tif;C:\DOP_2020\dop20_362000_5820000_col.tif;C:\DOP_2020\dop20_362000_5822000_col.tif;C:\DOP_2020\dop20_362000_5824000_col.tif;C:\DOP_2020\dop20_362000_5826000_col.tif;C:\DOP_2020\dop20_362000_5828000_col.tif;C:\DOP_2020\dop20_362000_5830000_col.tif;C:\DOP_2020\dop20_362000_5832000_col.tif;C:\DOP_2020\dop20_362000_5834000_col.tif;C:\DOP_2020\dop20_364000_5792000_col.tif;C:\DOP_2020\dop20_364000_5794000_col.tif;C:\DOP_2020\dop20_364000_5796000_col.tif;C:\DOP_2020\dop20_364000_5808000_col.tif;C:\DOP_2020\dop20_364000_5810000_col.tif;C:\DOP_2020\dop20_364000_5812000_col.tif;C:\DOP_2020\dop20_364000_5814000_col.tif;C:\DOP_2020\dop20_364000_5816000_col.tif;C:\DOP_2020\dop20_364000_5818000_col.tif;C:\DOP_2020\dop20_364000_5820000_col.tif;C:\DOP_2020\dop20_364000_5822000_col.tif;C:\DOP_2020\dop20_364000_5824000_col.tif;C:\DOP_2020\dop20_364000_5826000_col.tif;C:\DOP_2020\dop20_364000_5828000_col.tif;C:\DOP_2020\dop20_364000_5830000_col.tif;C:\DOP_2020\dop20_364000_5832000_col.tif;C:\DOP_2020\dop20_364000_5834000_col.tif;C:\DOP_2020\dop20_366000_5788000_col.tif;C:\DOP_2020\dop20_366000_5790000_col.tif;C:\DOP_2020\dop20_366000_5792000_col.tif;C:\DOP_2020\dop20_366000_5794000_col.tif;C:\DOP_2020\dop20_366000_5796000_col.tif;C:\DOP_2020\dop20_366000_5798000_col.tif;C:\DOP_2020\dop20_366000_5800000_col.tif;C:\DOP_2020\dop20_366000_5806000_col.tif;C:\DOP_2020\dop20_366000_5808000_col.tif;C:\DOP_2020\dop20_366000_5810000_col.tif;C:\DOP_2020\dop20_366000_5812000_col.tif;C:\DOP_2020\dop20_366000_5814000_col.tif;C:\DOP_2020\dop20_366000_5816000_col.tif;C:\DOP_2020\dop20_366000_5818000_col.tif;C:\DOP_2020\dop20_366000_5820000_col.tif;C:\DOP_2020\dop20_366000_5822000_col.tif;C:\DOP_2020\dop20_366000_5824000_col.tif;C:\DOP_2020\dop20_366000_5826000_col.tif;C:\DOP_2020\dop20_366000_5828000_col.tif;C:\DOP_2020\dop20_366000_5830000_col.tif;C:\DOP_2020\dop20_366000_5832000_col.tif;C:\DOP_2020\dop20_368000_5788000_col.tif;C:\DOP_2020\dop20_368000_5790000_col.tif;C:\DOP_2020\dop20_368000_5792000_col.tif;C:\DOP_2020\dop20_368000_5794000_col.tif;C:\DOP_2020\dop20_368000_5796000_col.tif;C:\DOP_2020\dop20_368000_5798000_col.tif;C:\DOP_2020\dop20_368000_5800000_col.tif;C:\DOP_2020\dop20_368000_5802000_col.tif;C:\DOP_2020\dop20_368000_5804000_col.tif;C:\DOP_2020\dop20_368000_5806000_col.tif;C:\DOP_2020\dop20_368000_5808000_col.tif;C:\DOP_2020\dop20_368000_5810000_col.tif;C:\DOP_2020\dop20_368000_5812000_col.tif;C:\DOP_2020\dop20_368000_5814000_col.tif;C:\DOP_2020\dop20_368000_5816000_col.tif;C:\DOP_2020\dop20_368000_5818000_col.tif;C:\DOP_2020\dop20_368000_5820000_col.tif;C:\DOP_2020\dop20_368000_5822000_col.tif;C:\DOP_2020\dop20_368000_5824000_col.tif;C:\DOP_2020\dop20_368000_5826000_col.tif;C:\DOP_2020\dop20_368000_5828000_col.tif;C:\DOP_2020\dop20_368000_5830000_col.tif;C:\DOP_2020\dop20_368000_5832000_col.tif;C:\DOP_2020\dop20_370000_5788000_col.tif;C:\DOP_2020\dop20_370000_5790000_col.tif;C:\DOP_2020\dop20_370000_5792000_col.tif;C:\DOP_2020\dop20_370000_5794000_col.tif;C:\DOP_2020\dop20_370000_5796000_col.tif;C:\DOP_2020\dop20_370000_5798000_col.tif;C:\DOP_2020\dop20_370000_5800000_col.tif;C:\DOP_2020\dop20_370000_5802000_col.tif;C:\DOP_2020\dop20_370000_5804000_col.tif;C:\DOP_2020\dop20_370000_5806000_col.tif;C:\DOP_2020\dop20_370000_5808000_col.tif;C:\DOP_2020\dop20_370000_5810000_col.tif;C:\DOP_2020\dop20_370000_5812000_col.tif;C:\DOP_2020\dop20_370000_5814000_col.tif;C:\DOP_2020\dop20_370000_5816000_col.tif;C:\DOP_2020\dop20_370000_5818000_col.tif;C:\DOP_2020\dop20_370000_5820000_col.tif;C:\DOP_2020\dop20_370000_5822000_col.tif;C:\DOP_2020\dop20_370000_5824000_col.tif;C:\DOP_2020\dop20_370000_5826000_col.tif;C:\DOP_2020\dop20_370000_5828000_col.tif;C:\DOP_2020\dop20_370000_5830000_col.tif;C:\DOP_2020\dop20_372000_5790000_col.tif;C:\DOP_2020\dop20_372000_5792000_col.tif;C:\DOP_2020\dop20_372000_5794000_col.tif;C:\DOP_2020\dop20_372000_5796000_col.tif;C:\DOP_2020\dop20_372000_5798000_col.tif;C:\DOP_2020\dop20_372000_5800000_col.tif;C:\DOP_2020\dop20_372000_5802000_col.tif;C:\DOP_2020\dop20_372000_5804000_col.tif;C:\DOP_2020\dop20_372000_5806000_col.tif;C:\DOP_2020\dop20_372000_5808000_col.tif;C:\DOP_2020\dop20_372000_5810000_col.tif;C:\DOP_2020\dop20_372000_5812000_col.tif;C:\DOP_2020\dop20_372000_5814000_col.tif;C:\DOP_2020\dop20_372000_5816000_col.tif;C:\DOP_2020\dop20_372000_5818000_col.tif;C:\DOP_2020\dop20_372000_5820000_col.tif;C:\DOP_2020\dop20_372000_5822000_col.tif;C:\DOP_2020\dop20_372000_5824000_col.tif;C:\DOP_2020\dop20_372000_5826000_col.tif;C:\DOP_2020\dop20_372000_5828000_col.tif;C:\DOP_2020\dop20_374000_5792000_col.tif;C:\DOP_2020\dop20_374000_5794000_col.tif;C:\DOP_2020\dop20_374000_5796000_col.tif;C:\DOP_2020\dop20_374000_5798000_col.tif;C:\DOP_2020\dop20_374000_5800000_col.tif;C:\DOP_2020\dop20_374000_5802000_col.tif;C:\DOP_2020\dop20_374000_5804000_col.tif;C:\DOP_2020\dop20_374000_5806000_col.tif;C:\DOP_2020\dop20_374000_5808000_col.tif;C:\DOP_2020\dop20_374000_5810000_col.tif;C:\DOP_2020\dop20_374000_5812000_col.tif;C:\DOP_2020\dop20_374000_5814000_col.tif;C:\DOP_2020\dop20_374000_5816000_col.tif;C:\DOP_2020\dop20_374000_5818000_col.tif;C:\DOP_2020\dop20_374000_5820000_col.tif;C:\DOP_2020\dop20_374000_5822000_col.tif;C:\DOP_2020\dop20_374000_5824000_col.tif;C:\DOP_2020\dop20_374000_5826000_col.tif;C:\DOP_2020\dop20_374000_5828000_col.tif;C:\DOP_2020\dop20_376000_5790000_col.tif;C:\DOP_2020\dop20_376000_5792000_col.tif;C:\DOP_2020\dop20_376000_5794000_col.tif;C:\DOP_2020\dop20_376000_5796000_col.tif;C:\DOP_2020\dop20_376000_5798000_col.tif;C:\DOP_2020\dop20_376000_5800000_col.tif;C:\DOP_2020\dop20_376000_5802000_col.tif;C:\DOP_2020\dop20_376000_5804000_col.tif;C:\DOP_2020\dop20_376000_5806000_col.tif;C:\DOP_2020\dop20_376000_5808000_col.tif;C:\DOP_2020\dop20_376000_5810000_col.tif;C:\DOP_2020\dop20_376000_5812000_col.tif;C:\DOP_2020\dop20_376000_5814000_col.tif;C:\DOP_2020\dop20_376000_5816000_col.tif;C:\DOP_2020\dop20_376000_5818000_col.tif;C:\DOP_2020\dop20_376000_5820000_col.tif;C:\DOP_2020\dop20_376000_5822000_col.tif;C:\DOP_2020\dop20_376000_5824000_col.tif;C:\DOP_2020\dop20_378000_5790000_col.tif;C:\DOP_2020\dop20_378000_5792000_col.tif;C:\DOP_2020\dop20_378000_5794000_col.tif;C:\DOP_2020\dop20_378000_5796000_col.tif;C:\DOP_2020\dop20_378000_5798000_col.tif;C:\DOP_2020\dop20_378000_5800000_col.tif;C:\DOP_2020\dop20_378000_5802000_col.tif;C:\DOP_2020\dop20_378000_5804000_col.tif;C:\DOP_2020\dop20_378000_5806000_col.tif;C:\DOP_2020\dop20_378000_5808000_col.tif;C:\DOP_2020\dop20_378000_5810000_col.tif;C:\DOP_2020\dop20_378000_5812000_col.tif;C:\DOP_2020\dop20_378000_5814000_col.tif;C:\DOP_2020\dop20_378000_5816000_col.tif;C:\DOP_2020\dop20_378000_5818000_col.tif;C:\DOP_2020\dop20_378000_5820000_col.tif;C:\DOP_2020\dop20_378000_5822000_col.tif;C:\DOP_2020\dop20_380000_5790000_col.tif;C:\DOP_2020\dop20_380000_5792000_col.tif;C:\DOP_2020\dop20_380000_5794000_col.tif;C:\DOP_2020\dop20_380000_5796000_col.tif;C:\DOP_2020\dop20_380000_5798000_col.tif;C:\DOP_2020\dop20_380000_5800000_col.tif;C:\DOP_2020\dop20_380000_5802000_col.tif;C:\DOP_2020\dop20_380000_5804000_col.tif;C:\DOP_2020\dop20_380000_5806000_col.tif;C:\DOP_2020\dop20_380000_5812000_col.tif;C:\DOP_2020\dop20_380000_5814000_col.tif;C:\DOP_2020\dop20_380000_5816000_col.tif;C:\DOP_2020\dop20_380000_5818000_col.tif;C:\DOP_2020\dop20_380000_5820000_col.tif;C:\DOP_2020\dop20_380000_5822000_col.tif;C:\DOP_2020\dop20_382000_5790000_col.tif;C:\DOP_2020\dop20_382000_5792000_col.tif;C:\DOP_2020\dop20_382000_5794000_col.tif;C:\DOP_2020\dop20_382000_5796000_col.tif;C:\DOP_2020\dop20_382000_5798000_col.tif;C:\DOP_2020\dop20_382000_5814000_col.tif;C:\DOP_2020\dop20_382000_5816000_col.tif;C:\DOP_2020\dop20_382000_5818000_col.tif;C:\DOP_2020\dop20_382000_5820000_col.tif;C:\DOP_2020\dop20_382000_5822000_col.tif;C:\DOP_2020\dop20_384000_5790000_col.tif;C:\DOP_2020\dop20_384000_5792000_col.tif;C:\DOP_2020\dop20_384000_5794000_col.tif C:\DOP_2020\Luftbilder_2020.gdb\Luftbilder_2020 LAST FIRST # # NONE 0 NONE</Process>
<Process Date="20201119" Time="100246" ToolSource="c:\program files (x86)\arcgis\desktop10.7\ArcToolbox\Toolboxes\Data Management Tools.tbx\BuildPyramids">BuildPyramids C:\DOP_2020\Luftbilder_2020.gdb\Luftbilder_2020 -1 NONE CUBIC DEFAULT 75 OVERWRITE</Process>
<Process Date="20201119" Time="220428" ToolSource="c:\program files (x86)\arcgis\desktop10.7\ArcToolbox\Toolboxes\Data Management Tools.tbx\BuildPyramids">BuildPyramids \\server29\daten1\GIS_Daten\ArcView\SDE_Verbindungsdateien\GisAdmin\gisadmin@server69@gis_rast.sde\gis_rast.GISADMIN.Luftbilder_2020 -1 NONE CUBIC DEFAULT 75 OVERWRITE</Process>
</lineage>
</DataProperties>
<SyncDate>20201118</SyncDate>
<SyncTime>16114200</SyncTime>
<ModDate>20201118</ModDate>
<ModTime>16114200</ModTime>
</Esri>
<dataIdInfo>
<envirDesc Sync="TRUE"> Version 6.2 (Build 9200) ; Esri ArcGIS 10.7.1.11595</envirDesc>
<dataLang>
<languageCode Sync="TRUE" value="deu"/>
<countryCode Sync="TRUE" value="DEU"/>
</dataLang>
<idCitation>
<resTitle Sync="TRUE">BAS_Luftbilder_2020</resTitle>
<presForm>
<PresFormCd Sync="TRUE" value="011"/>
</presForm>
</idCitation>
<spatRpType>
<SpatRepTypCd Sync="TRUE" value="002"/>
</spatRpType>
<idAbs/>
<searchKeys>
<keyword>Luftbilder 2020</keyword>
<keyword>Landkrei Grafschaft Bentheim</keyword>
</searchKeys>
<idPurp>Luftbilder 2020 im Landkreis Grafschaft Bentheim</idPurp>
<idCredit/>
<resConst>
<Consts>
<useLimit/>
</Consts>
</resConst>
</dataIdInfo>
<mdLang>
<languageCode Sync="TRUE" value="deu"/>
<countryCode Sync="TRUE" value="DEU"/>
</mdLang>
<distInfo>
<distFormat>
<formatName Sync="TRUE">Raster-Dataset in File-Geodatabase</formatName>
</distFormat>
</distInfo>
<mdHrLv>
<ScopeCd Sync="TRUE" value="005"/>
</mdHrLv>
<mdHrLvName Sync="TRUE">dataset</mdHrLvName>
<spdoinfo>
<rastinfo>
<rasttype Sync="TRUE">Pixel</rasttype>
<rowcount Sync="TRUE">10000</rowcount>
<colcount Sync="TRUE">10000</colcount>
<rastxsz Sync="TRUE">0,200000</rastxsz>
<rastysz Sync="TRUE">0,200000</rastysz>
<rastbpp Sync="TRUE">8</rastbpp>
<vrtcount Sync="TRUE">1</vrtcount>
<rastorig Sync="TRUE">Upper Left</rastorig>
<rastcmap Sync="TRUE">FALSE</rastcmap>
<rastcomp Sync="TRUE">LZ77</rastcomp>
<rastband Sync="TRUE">3</rastband>
<rastdtyp Sync="TRUE">pixel codes</rastdtyp>
<rastifor Sync="TRUE">FGDBR</rastifor>
<rastplyr Sync="TRUE">FALSE</rastplyr>
</rastinfo>
</spdoinfo>
<spref>
<horizsys>
<planar>
<planci>
<plance Sync="TRUE">row and column</plance>
<coordrep>
<absres Sync="TRUE">0,200000</absres>
<ordres Sync="TRUE">0,200000</ordres>
</coordrep>
</planci>
</planar>
</horizsys>
</spref>
<mdDateSt Sync="TRUE">20201118</mdDateSt>
</metadata>
