{
 "currentVersion": 11.3,
 "serviceDescription": "Migratrion_Okt_2020/BAS_Luftbilder_2020",
 "name": "Migratrion_Okt_2020/BAS_Luftbilder_2020",
 "description": "",
 "extent": {
  "xmin": 341999.99999999994,
  "ymin": 5787999.999972059,
  "xmax": 386000.0000025612,
  "ymax": 5836000.000016765,
  "spatialReference": {
   "wkid": 25832,
   "latestWkid": 25832
  }
 },
 "initialExtent": {
  "xmin": 341999.99999999994,
  "ymin": 5787999.999972059,
  "xmax": 386000.0000025612,
  "ymax": 5836000.000016765,
  "spatialReference": {
   "wkid": 25832,
   "latestWkid": 25832
  }
 },
 "fullExtent": {
  "xmin": 341999.99999999994,
  "ymin": 5787999.999972059,
  "xmax": 386000.0000025612,
  "ymax": 5836000.000016765,
  "spatialReference": {
   "wkid": 25832,
   "latestWkid": 25832
  }
 },
 "sortableFields": "",
 "bandCount": 3,
 "pixelType": "U8",
 "minValues": [
  6,
  8,
  3
 ],
 "maxValues": [
  255,
  255,
  255
 ],
 "meanValues": [
  111.15765539838816,
  115.50918463299342,
  101.54622532569078
 ],
 "stdvValues": [
  46.004618587634894,
  37.51943629209338,
  36.97675735885393
 ],
 "hasMultidimensions": false,
 "pixelSizeX": 0.20000000001164206,
 "pixelSizeY": 0.2000000001862723,
 "meanPixelSize": 0.2000000000989572,
 "datasetFormat": "SDR",
 "uncompressedSize": 158400000000,
 "blockWidth": 128,
 "blockHeight": 128,
 "compressionType": "LZ77",
 "bandNames": [
  "Band_1",
  "Band_2",
  "Band_3"
 ],
 "allowCopy": true,
 "allowAnalysis": true,
 "itemAccess": false,
 "inspectionCapabilities": "",
 "minPixelSize": 0,
 "maxPixelSize": 0,
 "copyrightText": "",
 "serviceDataType": "esriImageServiceDataTypeRGB",
 "serviceSourceType": "esriImageServiceSourceTypeDataset",
 "objectIdField": "",
 "fields": [],
 "capabilities": "Image,Metadata,Mensuration",
 "defaultMosaicMethod": "Center",
 "allowedMosaicMethods": "",
 "sortField": "",
 "sortValue": null,
 "sortAscending": true,
 "mosaicOperator": "First",
 "defaultCompressionQuality": 75,
 "defaultResamplingMethod": "Bilinear",
 "maxImageHeight": 4100,
 "maxImageWidth": 15000,
 "allowRasterFunction": true,
 "rasterFunctionInfos": [
  {
   "name": "None",
   "description": "",
   "help": ""
  }
 ],
 "rasterTypeInfos": [
  {
   "name": "Raster Dataset",
   "description": "Unterstützt alle ArcGIS-Raster-Datasets",
   "help": ""
  }
 ],
 "mensurationCapabilities": "Basic",
 "hasHistograms": true,
 "hasColormap": false,
 "hasRasterAttributeTable": false,
 "minScale": 0,
 "maxScale": 0,
 "exportTilesAllowed": false,
 "supportsStatistics": false,
 "supportsAdvancedQueries": false,
 "editFieldsInfo": null,
 "ownershipBasedAccessControlForRasters": null,
 "allowComputeTiePoints": false,
 "useStandardizedQueries": true,
 "advancedQueryCapabilities": {
  "useStandardizedQueries": true,
  "supportsStatistics": false,
  "supportsOrderBy": false,
  "supportsDistinct": false,
  "supportsPagination": false
 },
 "spatialReference": {
  "wkid": 25832,
  "latestWkid": 25832
 }
}
