View In:
ArcGIS JavaScript
ArcGIS Online Map Viewer
ArcGIS Earth
Service Description: Luftbilder 1937
Name: BAS_Luftbilder_1937
Description: Luftbilder 1937
Single Fused Map Cache: false
Extent:
XMin: 739834.2985433663
YMin: 6729050.353620548
XMax: 820790.0232620627
YMax: 6921173.836275762
Spatial Reference: 102100
(3857)
LatestVCSWkid(0)
Initial Extent:
XMin: 739834.2985433663
YMin: 6729050.353620548
XMax: 820790.0232620627
YMax: 6921173.836275762
Spatial Reference: 102100
(3857)
LatestVCSWkid(0)
Full Extent:
XMin: 739834.2985433663
YMin: 6729050.353620548
XMax: 820790.0232620627
YMax: 6921173.836275762
Spatial Reference: 102100
(3857)
LatestVCSWkid(0)
Pixel Size X: 0.45668807346373796
Pixel Size Y: 0.4798013167455769
Band Count: 1
Pixel Type: U8
RasterFunction Infos: {"rasterFunctionInfos": [{
"name": "None",
"description": "",
"help": ""
}]}
Mensuration Capabilities: Basic
Inspection Capabilities:
Has Histograms: true
Has Colormap: true
Has Multi Dimensions : false
Rendering Rule:
Min Scale: 0
Max Scale: 0
Copyright Text: LK Grafschaft Bentheim
Service Data Type: esriImageServiceDataTypeThematic
Min Values: 1
Max Values: 238
Mean Values: 163.28225661630424
Standard Deviation Values: 46.435525609189405
Object ID Field:
Fields:
None
Default Mosaic Method: Center
Allowed Mosaic Methods:
SortField:
SortValue: null
Mosaic Operator: First
Default Compression Quality: 75
Default Resampling Method: Nearest
Max Record Count: null
Max Image Height: 4100
Max Image Width: 15000
Max Download Image Count: null
Max Mosaic Image Count: null
Allow Raster Function: true
Allow Copy: true
Allow Analysis: true
Allow Compute TiePoints: false
Supports Statistics: false
Supports Advanced Queries: false
Use StandardizedQueries: true
Raster Type Infos:
Name: Raster Dataset
Description: Unterstützt alle ArcGIS-Raster-Datasets
Help:
Has Raster Attribute Table: false
Edit Fields Info: null
Ownership Based AccessControl For Rasters: null
Child Resources:
Info
Histograms
Statistics
Key Properties
Color Map
Legend
Raster Function Infos
Supported Operations:
Export Image
Identify
Measure
Compute Histograms
Compute Statistics Histograms
Get Samples
Compute Class Statistics
Query Boundary
Compute Pixel Location
Compute Angles
Validate
Project