View In:
ArcGIS JavaScript
ArcGIS Online Map Viewer
ArcGIS Earth
Service Description: Historische Luftbilder 1957 vom Landkreis Grafschaft Bentheim
Name: BAS_Luftbilder_1957
Description: Historische Luftbilder 1957 vom Landkreis Grafschaft Bentheim
Single Fused Map Cache: false
Extent:
XMin: -0.2677228366956115
YMin: -2825.5570636577904
XMax: 385465.2322771633
YMax: 5836252.942936342
Spatial Reference: 25832
(25832)
LatestVCSWkid(0)
Initial Extent:
XMin: -0.2677228366956115
YMin: -2825.5570636577904
XMax: 385465.2322771633
YMax: 5836252.942936342
Spatial Reference: 25832
(25832)
LatestVCSWkid(0)
Full Extent:
XMin: -0.2677228366956115
YMin: -2825.5570636577904
XMax: 385465.2322771633
YMax: 5836252.942936342
Spatial Reference: 25832
(25832)
LatestVCSWkid(0)
Pixel Size X: 0.5
Pixel Size Y: 0.5
Band Count: 1
Pixel Type: U8
RasterFunction Infos: {"rasterFunctionInfos": [{
"name": "None",
"description": "",
"help": ""
}]}
Mensuration Capabilities: Basic
Inspection Capabilities:
Has Histograms: false
Has Colormap: true
Has Multi Dimensions : false
Rendering Rule:
Min Scale: 0
Max Scale: 0
Copyright Text: Landkreis Grafschaft Bentheim
Service Data Type: esriImageServiceDataTypeThematic
Min Values: N/A
Max Values: N/A
Mean Values: N/A
Standard Deviation Values: N/A
Object ID Field:
Fields:
None
Default Mosaic Method: Center
Allowed Mosaic Methods:
SortField:
SortValue: null
Mosaic Operator: First
Default Compression Quality: 75
Default Resampling Method: Nearest
Max Record Count: null
Max Image Height: 4100
Max Image Width: 15000
Max Download Image Count: null
Max Mosaic Image Count: null
Allow Raster Function: true
Allow Copy: true
Allow Analysis: true
Allow Compute TiePoints: false
Supports Statistics: false
Supports Advanced Queries: false
Use StandardizedQueries: true
Raster Type Infos:
Name: Raster Dataset
Description: Unterstützt alle ArcGIS-Raster-Datasets
Help:
Has Raster Attribute Table: false
Edit Fields Info: null
Ownership Based AccessControl For Rasters: null
Child Resources:
Info
Statistics
Key Properties
Color Map
Legend
Raster Function Infos
Supported Operations:
Export Image
Identify
Measure
Compute Histograms
Compute Statistics Histograms
Get Samples
Compute Class Statistics
Query Boundary
Compute Pixel Location
Compute Angles
Validate
Project