View In:
ArcGIS JavaScript
ArcGIS Online Map Viewer
ArcGIS Earth
Service Description: Migratrion_Okt_2020/BAS_Luftbilder_1970
Name: Migratrion_Okt_2020/BAS_Luftbilder_1970
Description:
Single Fused Map Cache: false
Extent:
XMin: 342116.7322771633
YMin: 5789049.942936342
XMax: 385806.7322771633
YMax: 5836485.442936342
Spatial Reference: 25832
(25832)
LatestVCSWkid(0)
Initial Extent:
XMin: 342116.7322771633
YMin: 5789049.942936342
XMax: 385806.7322771633
YMax: 5836485.442936342
Spatial Reference: 25832
(25832)
LatestVCSWkid(0)
Full Extent:
XMin: 342116.7322771633
YMin: 5789049.942936342
XMax: 385806.7322771633
YMax: 5836485.442936342
Spatial Reference: 25832
(25832)
LatestVCSWkid(0)
Pixel Size X: 0.5
Pixel Size Y: 0.5
Band Count: 1
Pixel Type: U8
RasterFunction Infos: {"rasterFunctionInfos": [{
"name": "None",
"description": "",
"help": ""
}]}
Mensuration Capabilities: Basic
Inspection Capabilities:
Has Histograms: true
Has Colormap: true
Has Multi Dimensions : false
Rendering Rule:
Min Scale: 0
Max Scale: 0
Resampling: false
Copyright Text:
Service Data Type: esriImageServiceDataTypeThematic
Min Values: 1
Max Values: 255
Mean Values: 150.63678808218094
Standard Deviation Values: 71.5275955825149
Object ID Field:
Fields:
None
Default Mosaic Method: Center
Allowed Mosaic Methods:
SortField:
SortValue: null
Mosaic Operator: First
Default Compression Quality: 75
Default Resampling Method: Nearest
Max Record Count: null
Max Image Height: 4100
Max Image Width: 15000
Max Download Image Count: null
Max Mosaic Image Count: null
Allow Raster Function: false
Allow Copy: true
Allow Analysis: true
Allow Compute TiePoints: false
Supports Statistics: false
Supports Advanced Queries: false
Use StandardizedQueries: true
Raster Type Infos:
Name: Raster Dataset
Description: Unterstützt alle ArcGIS-Raster-Datasets
Help:
Has Raster Attribute Table: false
Edit Fields Info: null
Ownership Based AccessControl For Rasters: null
Child Resources:
Info
Histograms
Statistics
Key Properties
Color Map
Legend
Raster Function Infos
Supported Operations:
Export Image
Identify
Measure
Compute Histograms
Compute Statistics Histograms
Get Samples
Compute Class Statistics
Query Boundary
Compute Pixel Location
Compute Angles
Validate
Project