View In:
ArcGIS JavaScript
ArcGIS Online Map Viewer
ArcGIS Earth
Service Description: Migratrion_Okt_2020/BAS_Luftbilder_2020
Name: Migratrion_Okt_2020/BAS_Luftbilder_2020
Description:
Single Fused Map Cache: false
Extent:
XMin: 341999.99999999994
YMin: 5787999.999972059
XMax: 386000.0000025612
YMax: 5836000.000016765
Spatial Reference: 25832
(25832)
LatestVCSWkid(0)
Initial Extent:
XMin: 341999.99999999994
YMin: 5787999.999972059
XMax: 386000.0000025612
YMax: 5836000.000016765
Spatial Reference: 25832
(25832)
LatestVCSWkid(0)
Full Extent:
XMin: 341999.99999999994
YMin: 5787999.999972059
XMax: 386000.0000025612
YMax: 5836000.000016765
Spatial Reference: 25832
(25832)
LatestVCSWkid(0)
Pixel Size X: 0.20000000001164206
Pixel Size Y: 0.2000000001862723
Band Count: 3
Pixel Type: U8
RasterFunction Infos: {"rasterFunctionInfos": [{
"name": "None",
"description": "",
"help": ""
}]}
Mensuration Capabilities: Basic
Inspection Capabilities:
Has Histograms: true
Has Colormap: false
Has Multi Dimensions : false
Rendering Rule:
Min Scale: 0
Max Scale: 0
Copyright Text:
Service Data Type: esriImageServiceDataTypeRGB
Min Values: 6, 8, 3
Max Values: 255, 255, 255
Mean Values: 111.15765539838816, 115.50918463299342, 101.54622532569078
Standard Deviation Values: 46.004618587634894, 37.51943629209338, 36.97675735885393
Object ID Field:
Fields:
None
Default Mosaic Method: Center
Allowed Mosaic Methods:
SortField:
SortValue: null
Mosaic Operator: First
Default Compression Quality: 75
Default Resampling Method: Bilinear
Max Record Count: null
Max Image Height: 4100
Max Image Width: 15000
Max Download Image Count: null
Max Mosaic Image Count: null
Allow Raster Function: true
Allow Copy: true
Allow Analysis: true
Allow Compute TiePoints: false
Supports Statistics: false
Supports Advanced Queries: false
Use StandardizedQueries: true
Raster Type Infos:
Name: Raster Dataset
Description: Unterstützt alle ArcGIS-Raster-Datasets
Help:
Has Raster Attribute Table: false
Edit Fields Info: null
Ownership Based AccessControl For Rasters: null
Child Resources:
Info
Histograms
Statistics
Key Properties
Legend
Raster Function Infos
Supported Operations:
Export Image
Identify
Measure
Compute Histograms
Compute Statistics Histograms
Get Samples
Compute Class Statistics
Query Boundary
Compute Pixel Location
Compute Angles
Validate
Project